BEGIN:VCALENDAR
VERSION:2.0
PRODID:-//NN BURGER® - ECPv6.15.20//NONSGML v1.0//EN
CALSCALE:GREGORIAN
METHOD:PUBLISH
X-ORIGINAL-URL:https://nnburger.com
X-WR-CALDESC:Events for NN BURGER®
REFRESH-INTERVAL;VALUE=DURATION:PT1H
X-Robots-Tag:noindex
X-PUBLISHED-TTL:PT1H
BEGIN:VTIMEZONE
TZID:America/New_York
BEGIN:DAYLIGHT
TZOFFSETFROM:-0500
TZOFFSETTO:-0400
TZNAME:EDT
DTSTART:20260308T070000
END:DAYLIGHT
BEGIN:STANDARD
TZOFFSETFROM:-0400
TZOFFSETTO:-0500
TZNAME:EST
DTSTART:20261101T060000
END:STANDARD
BEGIN:DAYLIGHT
TZOFFSETFROM:-0500
TZOFFSETTO:-0400
TZNAME:EDT
DTSTART:20270314T070000
END:DAYLIGHT
BEGIN:STANDARD
TZOFFSETFROM:-0400
TZOFFSETTO:-0500
TZNAME:EST
DTSTART:20271107T060000
END:STANDARD
BEGIN:DAYLIGHT
TZOFFSETFROM:-0500
TZOFFSETTO:-0400
TZNAME:EDT
DTSTART:20280312T070000
END:DAYLIGHT
BEGIN:STANDARD
TZOFFSETFROM:-0400
TZOFFSETTO:-0500
TZNAME:EST
DTSTART:20281105T060000
END:STANDARD
END:VTIMEZONE
BEGIN:VEVENT
DTSTART;TZID=America/New_York:20270918T120000
DTEND;TZID=America/New_York:20270918T150000
DTSTAMP:20260422T142325
CREATED:20251105T220549Z
LAST-MODIFIED:20251105T220549Z
UID:10036463-1821268800-1821279600@nnburger.com
SUMMARY:🎶 Live Music on 'The NN Stage' 🎸
DESCRIPTION:🎶  Enjoy Live Music on ‘The NN Stage’ featuring Virginia’s top musicians. Join us! 🎸
URL:https://nnburger.com/event/%f0%9f%8e%b6-live-music-on-the-nn-stage-%f0%9f%8e%b8/2027-09-18/
LOCATION:Tappahannock Events\, 303 Queen St.\, Tappahannock\, VA\, 22560\, United States
CATEGORIES:Music Related
ATTACH;FMTTYPE=image/png:https://nnburger.com/wp-content/uploads/2025/11/Live-Bands-on-The-NN-Stage.png
END:VEVENT
BEGIN:VEVENT
DTSTART;VALUE=DATE:20270922
DTEND;VALUE=DATE:20270923
DTSTAMP:20260422T142325
CREATED:20250126T051918Z
LAST-MODIFIED:20250126T051919Z
UID:10033252-1821571200-1821657599@nnburger.com
SUMMARY:Table Game Wednesdays
DESCRIPTION:We supply the table games…You bring your crew.
URL:https://nnburger.com/event/table-game-wednesdays/2027-09-22/
LOCATION:Tappahannock Events\, 303 Queen St.\, Tappahannock\, VA\, 22560\, United States
CATEGORIES:Themed Nights
ATTACH;FMTTYPE=image/jpeg:https://nnburger.com/wp-content/uploads/2025/01/Table-Game-Wednesdays-1920-X-1080.jpg
END:VEVENT
BEGIN:VEVENT
DTSTART;TZID=America/New_York:20270925T120000
DTEND;TZID=America/New_York:20270925T150000
DTSTAMP:20260422T142325
CREATED:20251105T220549Z
LAST-MODIFIED:20251105T220549Z
UID:10036464-1821873600-1821884400@nnburger.com
SUMMARY:🎶 Live Music on 'The NN Stage' 🎸
DESCRIPTION:🎶  Enjoy Live Music on ‘The NN Stage’ featuring Virginia’s top musicians. Join us! 🎸
URL:https://nnburger.com/event/%f0%9f%8e%b6-live-music-on-the-nn-stage-%f0%9f%8e%b8/2027-09-25/
LOCATION:Tappahannock Events\, 303 Queen St.\, Tappahannock\, VA\, 22560\, United States
CATEGORIES:Music Related
ATTACH;FMTTYPE=image/png:https://nnburger.com/wp-content/uploads/2025/11/Live-Bands-on-The-NN-Stage.png
END:VEVENT
BEGIN:VEVENT
DTSTART;VALUE=DATE:20270929
DTEND;VALUE=DATE:20270930
DTSTAMP:20260422T142325
CREATED:20250126T051918Z
LAST-MODIFIED:20250126T051919Z
UID:10033253-1822176000-1822262399@nnburger.com
SUMMARY:Table Game Wednesdays
DESCRIPTION:We supply the table games…You bring your crew.
URL:https://nnburger.com/event/table-game-wednesdays/2027-09-29/
LOCATION:Tappahannock Events\, 303 Queen St.\, Tappahannock\, VA\, 22560\, United States
CATEGORIES:Themed Nights
ATTACH;FMTTYPE=image/jpeg:https://nnburger.com/wp-content/uploads/2025/01/Table-Game-Wednesdays-1920-X-1080.jpg
END:VEVENT
BEGIN:VEVENT
DTSTART;TZID=America/New_York:20271002T120000
DTEND;TZID=America/New_York:20271002T150000
DTSTAMP:20260422T142325
CREATED:20251105T220549Z
LAST-MODIFIED:20251105T220549Z
UID:10036465-1822478400-1822489200@nnburger.com
SUMMARY:🎶 Live Music on 'The NN Stage' 🎸
DESCRIPTION:🎶  Enjoy Live Music on ‘The NN Stage’ featuring Virginia’s top musicians. Join us! 🎸
URL:https://nnburger.com/event/%f0%9f%8e%b6-live-music-on-the-nn-stage-%f0%9f%8e%b8/2027-10-02/
LOCATION:Tappahannock Events\, 303 Queen St.\, Tappahannock\, VA\, 22560\, United States
CATEGORIES:Music Related
ATTACH;FMTTYPE=image/png:https://nnburger.com/wp-content/uploads/2025/11/Live-Bands-on-The-NN-Stage.png
END:VEVENT
BEGIN:VEVENT
DTSTART;VALUE=DATE:20271006
DTEND;VALUE=DATE:20271007
DTSTAMP:20260422T142325
CREATED:20250126T051918Z
LAST-MODIFIED:20250126T051919Z
UID:10033254-1822780800-1822867199@nnburger.com
SUMMARY:Table Game Wednesdays
DESCRIPTION:We supply the table games…You bring your crew.
URL:https://nnburger.com/event/table-game-wednesdays/2027-10-06/
LOCATION:Tappahannock Events\, 303 Queen St.\, Tappahannock\, VA\, 22560\, United States
CATEGORIES:Themed Nights
ATTACH;FMTTYPE=image/jpeg:https://nnburger.com/wp-content/uploads/2025/01/Table-Game-Wednesdays-1920-X-1080.jpg
END:VEVENT
BEGIN:VEVENT
DTSTART;TZID=America/New_York:20271009T120000
DTEND;TZID=America/New_York:20271009T150000
DTSTAMP:20260422T142325
CREATED:20251105T220549Z
LAST-MODIFIED:20251105T220549Z
UID:10036466-1823083200-1823094000@nnburger.com
SUMMARY:🎶 Live Music on 'The NN Stage' 🎸
DESCRIPTION:🎶  Enjoy Live Music on ‘The NN Stage’ featuring Virginia’s top musicians. Join us! 🎸
URL:https://nnburger.com/event/%f0%9f%8e%b6-live-music-on-the-nn-stage-%f0%9f%8e%b8/2027-10-09/
LOCATION:Tappahannock Events\, 303 Queen St.\, Tappahannock\, VA\, 22560\, United States
CATEGORIES:Music Related
ATTACH;FMTTYPE=image/png:https://nnburger.com/wp-content/uploads/2025/11/Live-Bands-on-The-NN-Stage.png
END:VEVENT
BEGIN:VEVENT
DTSTART;VALUE=DATE:20271013
DTEND;VALUE=DATE:20271014
DTSTAMP:20260422T142325
CREATED:20250126T051918Z
LAST-MODIFIED:20250126T051919Z
UID:10033255-1823385600-1823471999@nnburger.com
SUMMARY:Table Game Wednesdays
DESCRIPTION:We supply the table games…You bring your crew.
URL:https://nnburger.com/event/table-game-wednesdays/2027-10-13/
LOCATION:Tappahannock Events\, 303 Queen St.\, Tappahannock\, VA\, 22560\, United States
CATEGORIES:Themed Nights
ATTACH;FMTTYPE=image/jpeg:https://nnburger.com/wp-content/uploads/2025/01/Table-Game-Wednesdays-1920-X-1080.jpg
END:VEVENT
BEGIN:VEVENT
DTSTART;TZID=America/New_York:20271016T120000
DTEND;TZID=America/New_York:20271016T150000
DTSTAMP:20260422T142325
CREATED:20251105T220549Z
LAST-MODIFIED:20251105T220549Z
UID:10036467-1823688000-1823698800@nnburger.com
SUMMARY:🎶 Live Music on 'The NN Stage' 🎸
DESCRIPTION:🎶  Enjoy Live Music on ‘The NN Stage’ featuring Virginia’s top musicians. Join us! 🎸
URL:https://nnburger.com/event/%f0%9f%8e%b6-live-music-on-the-nn-stage-%f0%9f%8e%b8/2027-10-16/
LOCATION:Tappahannock Events\, 303 Queen St.\, Tappahannock\, VA\, 22560\, United States
CATEGORIES:Music Related
ATTACH;FMTTYPE=image/png:https://nnburger.com/wp-content/uploads/2025/11/Live-Bands-on-The-NN-Stage.png
END:VEVENT
BEGIN:VEVENT
DTSTART;VALUE=DATE:20271020
DTEND;VALUE=DATE:20271021
DTSTAMP:20260422T142325
CREATED:20250126T051918Z
LAST-MODIFIED:20250126T051919Z
UID:10033256-1823990400-1824076799@nnburger.com
SUMMARY:Table Game Wednesdays
DESCRIPTION:We supply the table games…You bring your crew.
URL:https://nnburger.com/event/table-game-wednesdays/2027-10-20/
LOCATION:Tappahannock Events\, 303 Queen St.\, Tappahannock\, VA\, 22560\, United States
CATEGORIES:Themed Nights
ATTACH;FMTTYPE=image/jpeg:https://nnburger.com/wp-content/uploads/2025/01/Table-Game-Wednesdays-1920-X-1080.jpg
END:VEVENT
BEGIN:VEVENT
DTSTART;TZID=America/New_York:20271023T120000
DTEND;TZID=America/New_York:20271023T150000
DTSTAMP:20260422T142325
CREATED:20251105T220549Z
LAST-MODIFIED:20251105T220549Z
UID:10036468-1824292800-1824303600@nnburger.com
SUMMARY:🎶 Live Music on 'The NN Stage' 🎸
DESCRIPTION:🎶  Enjoy Live Music on ‘The NN Stage’ featuring Virginia’s top musicians. Join us! 🎸
URL:https://nnburger.com/event/%f0%9f%8e%b6-live-music-on-the-nn-stage-%f0%9f%8e%b8/2027-10-23/
LOCATION:Tappahannock Events\, 303 Queen St.\, Tappahannock\, VA\, 22560\, United States
CATEGORIES:Music Related
ATTACH;FMTTYPE=image/png:https://nnburger.com/wp-content/uploads/2025/11/Live-Bands-on-The-NN-Stage.png
END:VEVENT
BEGIN:VEVENT
DTSTART;VALUE=DATE:20271027
DTEND;VALUE=DATE:20271028
DTSTAMP:20260422T142325
CREATED:20250126T051918Z
LAST-MODIFIED:20250126T051919Z
UID:10033257-1824595200-1824681599@nnburger.com
SUMMARY:Table Game Wednesdays
DESCRIPTION:We supply the table games…You bring your crew.
URL:https://nnburger.com/event/table-game-wednesdays/2027-10-27/
LOCATION:Tappahannock Events\, 303 Queen St.\, Tappahannock\, VA\, 22560\, United States
CATEGORIES:Themed Nights
ATTACH;FMTTYPE=image/jpeg:https://nnburger.com/wp-content/uploads/2025/01/Table-Game-Wednesdays-1920-X-1080.jpg
END:VEVENT
BEGIN:VEVENT
DTSTART;TZID=America/New_York:20271030T120000
DTEND;TZID=America/New_York:20271030T150000
DTSTAMP:20260422T142325
CREATED:20251105T220549Z
LAST-MODIFIED:20251105T220549Z
UID:10036469-1824897600-1824908400@nnburger.com
SUMMARY:🎶 Live Music on 'The NN Stage' 🎸
DESCRIPTION:🎶  Enjoy Live Music on ‘The NN Stage’ featuring Virginia’s top musicians. Join us! 🎸
URL:https://nnburger.com/event/%f0%9f%8e%b6-live-music-on-the-nn-stage-%f0%9f%8e%b8/2027-10-30/
LOCATION:Tappahannock Events\, 303 Queen St.\, Tappahannock\, VA\, 22560\, United States
CATEGORIES:Music Related
ATTACH;FMTTYPE=image/png:https://nnburger.com/wp-content/uploads/2025/11/Live-Bands-on-The-NN-Stage.png
END:VEVENT
BEGIN:VEVENT
DTSTART;VALUE=DATE:20271103
DTEND;VALUE=DATE:20271104
DTSTAMP:20260422T142325
CREATED:20250126T051918Z
LAST-MODIFIED:20250126T051919Z
UID:10033258-1825200000-1825286399@nnburger.com
SUMMARY:Table Game Wednesdays
DESCRIPTION:We supply the table games…You bring your crew.
URL:https://nnburger.com/event/table-game-wednesdays/2027-11-03/
LOCATION:Tappahannock Events\, 303 Queen St.\, Tappahannock\, VA\, 22560\, United States
CATEGORIES:Themed Nights
ATTACH;FMTTYPE=image/jpeg:https://nnburger.com/wp-content/uploads/2025/01/Table-Game-Wednesdays-1920-X-1080.jpg
END:VEVENT
BEGIN:VEVENT
DTSTART;TZID=America/New_York:20271106T120000
DTEND;TZID=America/New_York:20271106T150000
DTSTAMP:20260422T142325
CREATED:20251105T220549Z
LAST-MODIFIED:20251105T220549Z
UID:10036470-1825502400-1825513200@nnburger.com
SUMMARY:🎶 Live Music on 'The NN Stage' 🎸
DESCRIPTION:🎶  Enjoy Live Music on ‘The NN Stage’ featuring Virginia’s top musicians. Join us! 🎸
URL:https://nnburger.com/event/%f0%9f%8e%b6-live-music-on-the-nn-stage-%f0%9f%8e%b8/2027-11-06/
LOCATION:Tappahannock Events\, 303 Queen St.\, Tappahannock\, VA\, 22560\, United States
CATEGORIES:Music Related
ATTACH;FMTTYPE=image/png:https://nnburger.com/wp-content/uploads/2025/11/Live-Bands-on-The-NN-Stage.png
END:VEVENT
BEGIN:VEVENT
DTSTART;VALUE=DATE:20271110
DTEND;VALUE=DATE:20271111
DTSTAMP:20260422T142325
CREATED:20250126T051918Z
LAST-MODIFIED:20250126T051919Z
UID:10033259-1825804800-1825891199@nnburger.com
SUMMARY:Table Game Wednesdays
DESCRIPTION:We supply the table games…You bring your crew.
URL:https://nnburger.com/event/table-game-wednesdays/2027-11-10/
LOCATION:Tappahannock Events\, 303 Queen St.\, Tappahannock\, VA\, 22560\, United States
CATEGORIES:Themed Nights
ATTACH;FMTTYPE=image/jpeg:https://nnburger.com/wp-content/uploads/2025/01/Table-Game-Wednesdays-1920-X-1080.jpg
END:VEVENT
BEGIN:VEVENT
DTSTART;TZID=America/New_York:20271113T120000
DTEND;TZID=America/New_York:20271113T150000
DTSTAMP:20260422T142325
CREATED:20251105T220549Z
LAST-MODIFIED:20251105T220549Z
UID:10036471-1826107200-1826118000@nnburger.com
SUMMARY:🎶 Live Music on 'The NN Stage' 🎸
DESCRIPTION:🎶  Enjoy Live Music on ‘The NN Stage’ featuring Virginia’s top musicians. Join us! 🎸
URL:https://nnburger.com/event/%f0%9f%8e%b6-live-music-on-the-nn-stage-%f0%9f%8e%b8/2027-11-13/
LOCATION:Tappahannock Events\, 303 Queen St.\, Tappahannock\, VA\, 22560\, United States
CATEGORIES:Music Related
ATTACH;FMTTYPE=image/png:https://nnburger.com/wp-content/uploads/2025/11/Live-Bands-on-The-NN-Stage.png
END:VEVENT
BEGIN:VEVENT
DTSTART;VALUE=DATE:20271117
DTEND;VALUE=DATE:20271118
DTSTAMP:20260422T142325
CREATED:20250126T051918Z
LAST-MODIFIED:20250126T051919Z
UID:10033260-1826409600-1826495999@nnburger.com
SUMMARY:Table Game Wednesdays
DESCRIPTION:We supply the table games…You bring your crew.
URL:https://nnburger.com/event/table-game-wednesdays/2027-11-17/
LOCATION:Tappahannock Events\, 303 Queen St.\, Tappahannock\, VA\, 22560\, United States
CATEGORIES:Themed Nights
ATTACH;FMTTYPE=image/jpeg:https://nnburger.com/wp-content/uploads/2025/01/Table-Game-Wednesdays-1920-X-1080.jpg
END:VEVENT
BEGIN:VEVENT
DTSTART;TZID=America/New_York:20271120T120000
DTEND;TZID=America/New_York:20271120T150000
DTSTAMP:20260422T142325
CREATED:20251105T220549Z
LAST-MODIFIED:20251105T220549Z
UID:10036472-1826712000-1826722800@nnburger.com
SUMMARY:🎶 Live Music on 'The NN Stage' 🎸
DESCRIPTION:🎶  Enjoy Live Music on ‘The NN Stage’ featuring Virginia’s top musicians. Join us! 🎸
URL:https://nnburger.com/event/%f0%9f%8e%b6-live-music-on-the-nn-stage-%f0%9f%8e%b8/2027-11-20/
LOCATION:Tappahannock Events\, 303 Queen St.\, Tappahannock\, VA\, 22560\, United States
CATEGORIES:Music Related
ATTACH;FMTTYPE=image/png:https://nnburger.com/wp-content/uploads/2025/11/Live-Bands-on-The-NN-Stage.png
END:VEVENT
BEGIN:VEVENT
DTSTART;VALUE=DATE:20271121
DTEND;VALUE=DATE:20271122
DTSTAMP:20260422T142325
CREATED:20241107T222352Z
LAST-MODIFIED:20241107T222551Z
UID:10029413-1826755200-1826841599@nnburger.com
SUMMARY:It's Our Birthday!
DESCRIPTION:
URL:https://nnburger.com/event/its-our-birthday/2027-11-21/
LOCATION:Tappahannock Events\, 303 Queen St.\, Tappahannock\, VA\, 22560\, United States
ATTACH;FMTTYPE=image/jpeg:https://nnburger.com/wp-content/uploads/2021/05/NN-Burger-birthday-1.jpg
END:VEVENT
BEGIN:VEVENT
DTSTART;VALUE=DATE:20271124
DTEND;VALUE=DATE:20271125
DTSTAMP:20260422T142325
CREATED:20250126T051918Z
LAST-MODIFIED:20250126T051919Z
UID:10033261-1827014400-1827100799@nnburger.com
SUMMARY:Table Game Wednesdays
DESCRIPTION:We supply the table games…You bring your crew.
URL:https://nnburger.com/event/table-game-wednesdays/2027-11-24/
LOCATION:Tappahannock Events\, 303 Queen St.\, Tappahannock\, VA\, 22560\, United States
CATEGORIES:Themed Nights
ATTACH;FMTTYPE=image/jpeg:https://nnburger.com/wp-content/uploads/2025/01/Table-Game-Wednesdays-1920-X-1080.jpg
END:VEVENT
BEGIN:VEVENT
DTSTART;TZID=America/New_York:20271127T120000
DTEND;TZID=America/New_York:20271127T150000
DTSTAMP:20260422T142325
CREATED:20251105T220549Z
LAST-MODIFIED:20251105T220549Z
UID:10036473-1827316800-1827327600@nnburger.com
SUMMARY:🎶 Live Music on 'The NN Stage' 🎸
DESCRIPTION:🎶  Enjoy Live Music on ‘The NN Stage’ featuring Virginia’s top musicians. Join us! 🎸
URL:https://nnburger.com/event/%f0%9f%8e%b6-live-music-on-the-nn-stage-%f0%9f%8e%b8/2027-11-27/
LOCATION:Tappahannock Events\, 303 Queen St.\, Tappahannock\, VA\, 22560\, United States
CATEGORIES:Music Related
ATTACH;FMTTYPE=image/png:https://nnburger.com/wp-content/uploads/2025/11/Live-Bands-on-The-NN-Stage.png
END:VEVENT
BEGIN:VEVENT
DTSTART;VALUE=DATE:20271201
DTEND;VALUE=DATE:20271202
DTSTAMP:20260422T142325
CREATED:20250126T051918Z
LAST-MODIFIED:20250126T051919Z
UID:10033262-1827619200-1827705599@nnburger.com
SUMMARY:Table Game Wednesdays
DESCRIPTION:We supply the table games…You bring your crew.
URL:https://nnburger.com/event/table-game-wednesdays/2027-12-01/
LOCATION:Tappahannock Events\, 303 Queen St.\, Tappahannock\, VA\, 22560\, United States
CATEGORIES:Themed Nights
ATTACH;FMTTYPE=image/jpeg:https://nnburger.com/wp-content/uploads/2025/01/Table-Game-Wednesdays-1920-X-1080.jpg
END:VEVENT
BEGIN:VEVENT
DTSTART;TZID=America/New_York:20271204T120000
DTEND;TZID=America/New_York:20271204T150000
DTSTAMP:20260422T142325
CREATED:20251105T220549Z
LAST-MODIFIED:20251105T220549Z
UID:10036474-1827921600-1827932400@nnburger.com
SUMMARY:🎶 Live Music on 'The NN Stage' 🎸
DESCRIPTION:🎶  Enjoy Live Music on ‘The NN Stage’ featuring Virginia’s top musicians. Join us! 🎸
URL:https://nnburger.com/event/%f0%9f%8e%b6-live-music-on-the-nn-stage-%f0%9f%8e%b8/2027-12-04/
LOCATION:Tappahannock Events\, 303 Queen St.\, Tappahannock\, VA\, 22560\, United States
CATEGORIES:Music Related
ATTACH;FMTTYPE=image/png:https://nnburger.com/wp-content/uploads/2025/11/Live-Bands-on-The-NN-Stage.png
END:VEVENT
BEGIN:VEVENT
DTSTART;VALUE=DATE:20271208
DTEND;VALUE=DATE:20271209
DTSTAMP:20260422T142325
CREATED:20250126T051918Z
LAST-MODIFIED:20250126T051919Z
UID:10033263-1828224000-1828310399@nnburger.com
SUMMARY:Table Game Wednesdays
DESCRIPTION:We supply the table games…You bring your crew.
URL:https://nnburger.com/event/table-game-wednesdays/2027-12-08/
LOCATION:Tappahannock Events\, 303 Queen St.\, Tappahannock\, VA\, 22560\, United States
CATEGORIES:Themed Nights
ATTACH;FMTTYPE=image/jpeg:https://nnburger.com/wp-content/uploads/2025/01/Table-Game-Wednesdays-1920-X-1080.jpg
END:VEVENT
BEGIN:VEVENT
DTSTART;TZID=America/New_York:20271211T120000
DTEND;TZID=America/New_York:20271211T150000
DTSTAMP:20260422T142325
CREATED:20251105T220549Z
LAST-MODIFIED:20251105T220549Z
UID:10036475-1828526400-1828537200@nnburger.com
SUMMARY:🎶 Live Music on 'The NN Stage' 🎸
DESCRIPTION:🎶  Enjoy Live Music on ‘The NN Stage’ featuring Virginia’s top musicians. Join us! 🎸
URL:https://nnburger.com/event/%f0%9f%8e%b6-live-music-on-the-nn-stage-%f0%9f%8e%b8/2027-12-11/
LOCATION:Tappahannock Events\, 303 Queen St.\, Tappahannock\, VA\, 22560\, United States
CATEGORIES:Music Related
ATTACH;FMTTYPE=image/png:https://nnburger.com/wp-content/uploads/2025/11/Live-Bands-on-The-NN-Stage.png
END:VEVENT
BEGIN:VEVENT
DTSTART;VALUE=DATE:20271215
DTEND;VALUE=DATE:20271216
DTSTAMP:20260422T142325
CREATED:20250126T051918Z
LAST-MODIFIED:20250126T051919Z
UID:10033264-1828828800-1828915199@nnburger.com
SUMMARY:Table Game Wednesdays
DESCRIPTION:We supply the table games…You bring your crew.
URL:https://nnburger.com/event/table-game-wednesdays/2027-12-15/
LOCATION:Tappahannock Events\, 303 Queen St.\, Tappahannock\, VA\, 22560\, United States
CATEGORIES:Themed Nights
ATTACH;FMTTYPE=image/jpeg:https://nnburger.com/wp-content/uploads/2025/01/Table-Game-Wednesdays-1920-X-1080.jpg
END:VEVENT
BEGIN:VEVENT
DTSTART;TZID=America/New_York:20271218T120000
DTEND;TZID=America/New_York:20271218T150000
DTSTAMP:20260422T142325
CREATED:20251105T220549Z
LAST-MODIFIED:20251105T220549Z
UID:10036476-1829131200-1829142000@nnburger.com
SUMMARY:🎶 Live Music on 'The NN Stage' 🎸
DESCRIPTION:🎶  Enjoy Live Music on ‘The NN Stage’ featuring Virginia’s top musicians. Join us! 🎸
URL:https://nnburger.com/event/%f0%9f%8e%b6-live-music-on-the-nn-stage-%f0%9f%8e%b8/2027-12-18/
LOCATION:Tappahannock Events\, 303 Queen St.\, Tappahannock\, VA\, 22560\, United States
CATEGORIES:Music Related
ATTACH;FMTTYPE=image/png:https://nnburger.com/wp-content/uploads/2025/11/Live-Bands-on-The-NN-Stage.png
END:VEVENT
BEGIN:VEVENT
DTSTART;VALUE=DATE:20271222
DTEND;VALUE=DATE:20271223
DTSTAMP:20260422T142325
CREATED:20250126T051918Z
LAST-MODIFIED:20250126T051919Z
UID:10033265-1829433600-1829519999@nnburger.com
SUMMARY:Table Game Wednesdays
DESCRIPTION:We supply the table games…You bring your crew.
URL:https://nnburger.com/event/table-game-wednesdays/2027-12-22/
LOCATION:Tappahannock Events\, 303 Queen St.\, Tappahannock\, VA\, 22560\, United States
CATEGORIES:Themed Nights
ATTACH;FMTTYPE=image/jpeg:https://nnburger.com/wp-content/uploads/2025/01/Table-Game-Wednesdays-1920-X-1080.jpg
END:VEVENT
BEGIN:VEVENT
DTSTART;TZID=America/New_York:20271225T120000
DTEND;TZID=America/New_York:20271225T150000
DTSTAMP:20260422T142325
CREATED:20251105T220549Z
LAST-MODIFIED:20251105T220549Z
UID:10036477-1829736000-1829746800@nnburger.com
SUMMARY:🎶 Live Music on 'The NN Stage' 🎸
DESCRIPTION:🎶  Enjoy Live Music on ‘The NN Stage’ featuring Virginia’s top musicians. Join us! 🎸
URL:https://nnburger.com/event/%f0%9f%8e%b6-live-music-on-the-nn-stage-%f0%9f%8e%b8/2027-12-25/
LOCATION:Tappahannock Events\, 303 Queen St.\, Tappahannock\, VA\, 22560\, United States
CATEGORIES:Music Related
ATTACH;FMTTYPE=image/png:https://nnburger.com/wp-content/uploads/2025/11/Live-Bands-on-The-NN-Stage.png
END:VEVENT
END:VCALENDAR