BEGIN:VCALENDAR
VERSION:2.0
PRODID:-//NN BURGER® - ECPv6.15.20//NONSGML v1.0//EN
CALSCALE:GREGORIAN
METHOD:PUBLISH
X-WR-CALNAME:NN BURGER®
X-ORIGINAL-URL:https://nnburger.com
X-WR-CALDESC:Events for NN BURGER®
REFRESH-INTERVAL;VALUE=DURATION:PT1H
X-Robots-Tag:noindex
X-PUBLISHED-TTL:PT1H
BEGIN:VTIMEZONE
TZID:America/New_York
BEGIN:DAYLIGHT
TZOFFSETFROM:-0500
TZOFFSETTO:-0400
TZNAME:EDT
DTSTART:20260308T070000
END:DAYLIGHT
BEGIN:STANDARD
TZOFFSETFROM:-0400
TZOFFSETTO:-0500
TZNAME:EST
DTSTART:20261101T060000
END:STANDARD
BEGIN:DAYLIGHT
TZOFFSETFROM:-0500
TZOFFSETTO:-0400
TZNAME:EDT
DTSTART:20270314T070000
END:DAYLIGHT
BEGIN:STANDARD
TZOFFSETFROM:-0400
TZOFFSETTO:-0500
TZNAME:EST
DTSTART:20271107T060000
END:STANDARD
BEGIN:DAYLIGHT
TZOFFSETFROM:-0500
TZOFFSETTO:-0400
TZNAME:EDT
DTSTART:20280312T070000
END:DAYLIGHT
BEGIN:STANDARD
TZOFFSETFROM:-0400
TZOFFSETTO:-0500
TZNAME:EST
DTSTART:20281105T060000
END:STANDARD
BEGIN:DAYLIGHT
TZOFFSETFROM:-0500
TZOFFSETTO:-0400
TZNAME:EDT
DTSTART:20290311T070000
END:DAYLIGHT
BEGIN:STANDARD
TZOFFSETFROM:-0400
TZOFFSETTO:-0500
TZNAME:EST
DTSTART:20291104T060000
END:STANDARD
END:VTIMEZONE
BEGIN:VEVENT
DTSTART;TZID=America/New_York:20271120T120000
DTEND;TZID=America/New_York:20271120T150000
DTSTAMP:20260422T192540
CREATED:20251105T220549Z
LAST-MODIFIED:20251105T220549Z
UID:10036472-1826712000-1826722800@nnburger.com
SUMMARY:🎶 Live Music on 'The NN Stage' 🎸
DESCRIPTION:🎶  Enjoy Live Music on ‘The NN Stage’ featuring Virginia’s top musicians. Join us! 🎸
URL:https://nnburger.com/event/%f0%9f%8e%b6-live-music-on-the-nn-stage-%f0%9f%8e%b8/2027-11-20/
LOCATION:Tappahannock Events\, 303 Queen St.\, Tappahannock\, VA\, 22560\, United States
CATEGORIES:Music Related
ATTACH;FMTTYPE=image/png:https://nnburger.com/wp-content/uploads/2025/11/Live-Bands-on-The-NN-Stage.png
END:VEVENT
BEGIN:VEVENT
DTSTART;VALUE=DATE:20271121
DTEND;VALUE=DATE:20271122
DTSTAMP:20260422T192540
CREATED:20241107T222352Z
LAST-MODIFIED:20241107T222551Z
UID:10029413-1826755200-1826841599@nnburger.com
SUMMARY:It's Our Birthday!
DESCRIPTION:
URL:https://nnburger.com/event/its-our-birthday/2027-11-21/
LOCATION:Tappahannock Events\, 303 Queen St.\, Tappahannock\, VA\, 22560\, United States
ATTACH;FMTTYPE=image/jpeg:https://nnburger.com/wp-content/uploads/2021/05/NN-Burger-birthday-1.jpg
END:VEVENT
BEGIN:VEVENT
DTSTART;VALUE=DATE:20271124
DTEND;VALUE=DATE:20271125
DTSTAMP:20260422T192540
CREATED:20250126T051918Z
LAST-MODIFIED:20250126T051919Z
UID:10033261-1827014400-1827100799@nnburger.com
SUMMARY:Table Game Wednesdays
DESCRIPTION:We supply the table games…You bring your crew.
URL:https://nnburger.com/event/table-game-wednesdays/2027-11-24/
LOCATION:Tappahannock Events\, 303 Queen St.\, Tappahannock\, VA\, 22560\, United States
CATEGORIES:Themed Nights
ATTACH;FMTTYPE=image/jpeg:https://nnburger.com/wp-content/uploads/2025/01/Table-Game-Wednesdays-1920-X-1080.jpg
END:VEVENT
BEGIN:VEVENT
DTSTART;TZID=America/New_York:20271127T120000
DTEND;TZID=America/New_York:20271127T150000
DTSTAMP:20260422T192540
CREATED:20251105T220549Z
LAST-MODIFIED:20251105T220549Z
UID:10036473-1827316800-1827327600@nnburger.com
SUMMARY:🎶 Live Music on 'The NN Stage' 🎸
DESCRIPTION:🎶  Enjoy Live Music on ‘The NN Stage’ featuring Virginia’s top musicians. Join us! 🎸
URL:https://nnburger.com/event/%f0%9f%8e%b6-live-music-on-the-nn-stage-%f0%9f%8e%b8/2027-11-27/
LOCATION:Tappahannock Events\, 303 Queen St.\, Tappahannock\, VA\, 22560\, United States
CATEGORIES:Music Related
ATTACH;FMTTYPE=image/png:https://nnburger.com/wp-content/uploads/2025/11/Live-Bands-on-The-NN-Stage.png
END:VEVENT
BEGIN:VEVENT
DTSTART;VALUE=DATE:20271201
DTEND;VALUE=DATE:20271202
DTSTAMP:20260422T192540
CREATED:20250126T051918Z
LAST-MODIFIED:20250126T051919Z
UID:10033262-1827619200-1827705599@nnburger.com
SUMMARY:Table Game Wednesdays
DESCRIPTION:We supply the table games…You bring your crew.
URL:https://nnburger.com/event/table-game-wednesdays/2027-12-01/
LOCATION:Tappahannock Events\, 303 Queen St.\, Tappahannock\, VA\, 22560\, United States
CATEGORIES:Themed Nights
ATTACH;FMTTYPE=image/jpeg:https://nnburger.com/wp-content/uploads/2025/01/Table-Game-Wednesdays-1920-X-1080.jpg
END:VEVENT
BEGIN:VEVENT
DTSTART;TZID=America/New_York:20271204T120000
DTEND;TZID=America/New_York:20271204T150000
DTSTAMP:20260422T192540
CREATED:20251105T220549Z
LAST-MODIFIED:20251105T220549Z
UID:10036474-1827921600-1827932400@nnburger.com
SUMMARY:🎶 Live Music on 'The NN Stage' 🎸
DESCRIPTION:🎶  Enjoy Live Music on ‘The NN Stage’ featuring Virginia’s top musicians. Join us! 🎸
URL:https://nnburger.com/event/%f0%9f%8e%b6-live-music-on-the-nn-stage-%f0%9f%8e%b8/2027-12-04/
LOCATION:Tappahannock Events\, 303 Queen St.\, Tappahannock\, VA\, 22560\, United States
CATEGORIES:Music Related
ATTACH;FMTTYPE=image/png:https://nnburger.com/wp-content/uploads/2025/11/Live-Bands-on-The-NN-Stage.png
END:VEVENT
BEGIN:VEVENT
DTSTART;VALUE=DATE:20271208
DTEND;VALUE=DATE:20271209
DTSTAMP:20260422T192540
CREATED:20250126T051918Z
LAST-MODIFIED:20250126T051919Z
UID:10033263-1828224000-1828310399@nnburger.com
SUMMARY:Table Game Wednesdays
DESCRIPTION:We supply the table games…You bring your crew.
URL:https://nnburger.com/event/table-game-wednesdays/2027-12-08/
LOCATION:Tappahannock Events\, 303 Queen St.\, Tappahannock\, VA\, 22560\, United States
CATEGORIES:Themed Nights
ATTACH;FMTTYPE=image/jpeg:https://nnburger.com/wp-content/uploads/2025/01/Table-Game-Wednesdays-1920-X-1080.jpg
END:VEVENT
BEGIN:VEVENT
DTSTART;TZID=America/New_York:20271211T120000
DTEND;TZID=America/New_York:20271211T150000
DTSTAMP:20260422T192540
CREATED:20251105T220549Z
LAST-MODIFIED:20251105T220549Z
UID:10036475-1828526400-1828537200@nnburger.com
SUMMARY:🎶 Live Music on 'The NN Stage' 🎸
DESCRIPTION:🎶  Enjoy Live Music on ‘The NN Stage’ featuring Virginia’s top musicians. Join us! 🎸
URL:https://nnburger.com/event/%f0%9f%8e%b6-live-music-on-the-nn-stage-%f0%9f%8e%b8/2027-12-11/
LOCATION:Tappahannock Events\, 303 Queen St.\, Tappahannock\, VA\, 22560\, United States
CATEGORIES:Music Related
ATTACH;FMTTYPE=image/png:https://nnburger.com/wp-content/uploads/2025/11/Live-Bands-on-The-NN-Stage.png
END:VEVENT
BEGIN:VEVENT
DTSTART;VALUE=DATE:20271215
DTEND;VALUE=DATE:20271216
DTSTAMP:20260422T192540
CREATED:20250126T051918Z
LAST-MODIFIED:20250126T051919Z
UID:10033264-1828828800-1828915199@nnburger.com
SUMMARY:Table Game Wednesdays
DESCRIPTION:We supply the table games…You bring your crew.
URL:https://nnburger.com/event/table-game-wednesdays/2027-12-15/
LOCATION:Tappahannock Events\, 303 Queen St.\, Tappahannock\, VA\, 22560\, United States
CATEGORIES:Themed Nights
ATTACH;FMTTYPE=image/jpeg:https://nnburger.com/wp-content/uploads/2025/01/Table-Game-Wednesdays-1920-X-1080.jpg
END:VEVENT
BEGIN:VEVENT
DTSTART;TZID=America/New_York:20271218T120000
DTEND;TZID=America/New_York:20271218T150000
DTSTAMP:20260422T192540
CREATED:20251105T220549Z
LAST-MODIFIED:20251105T220549Z
UID:10036476-1829131200-1829142000@nnburger.com
SUMMARY:🎶 Live Music on 'The NN Stage' 🎸
DESCRIPTION:🎶  Enjoy Live Music on ‘The NN Stage’ featuring Virginia’s top musicians. Join us! 🎸
URL:https://nnburger.com/event/%f0%9f%8e%b6-live-music-on-the-nn-stage-%f0%9f%8e%b8/2027-12-18/
LOCATION:Tappahannock Events\, 303 Queen St.\, Tappahannock\, VA\, 22560\, United States
CATEGORIES:Music Related
ATTACH;FMTTYPE=image/png:https://nnburger.com/wp-content/uploads/2025/11/Live-Bands-on-The-NN-Stage.png
END:VEVENT
BEGIN:VEVENT
DTSTART;VALUE=DATE:20271222
DTEND;VALUE=DATE:20271223
DTSTAMP:20260422T192540
CREATED:20250126T051918Z
LAST-MODIFIED:20250126T051919Z
UID:10033265-1829433600-1829519999@nnburger.com
SUMMARY:Table Game Wednesdays
DESCRIPTION:We supply the table games…You bring your crew.
URL:https://nnburger.com/event/table-game-wednesdays/2027-12-22/
LOCATION:Tappahannock Events\, 303 Queen St.\, Tappahannock\, VA\, 22560\, United States
CATEGORIES:Themed Nights
ATTACH;FMTTYPE=image/jpeg:https://nnburger.com/wp-content/uploads/2025/01/Table-Game-Wednesdays-1920-X-1080.jpg
END:VEVENT
BEGIN:VEVENT
DTSTART;TZID=America/New_York:20271225T120000
DTEND;TZID=America/New_York:20271225T150000
DTSTAMP:20260422T192540
CREATED:20251105T220549Z
LAST-MODIFIED:20251105T220549Z
UID:10036477-1829736000-1829746800@nnburger.com
SUMMARY:🎶 Live Music on 'The NN Stage' 🎸
DESCRIPTION:🎶  Enjoy Live Music on ‘The NN Stage’ featuring Virginia’s top musicians. Join us! 🎸
URL:https://nnburger.com/event/%f0%9f%8e%b6-live-music-on-the-nn-stage-%f0%9f%8e%b8/2027-12-25/
LOCATION:Tappahannock Events\, 303 Queen St.\, Tappahannock\, VA\, 22560\, United States
CATEGORIES:Music Related
ATTACH;FMTTYPE=image/png:https://nnburger.com/wp-content/uploads/2025/11/Live-Bands-on-The-NN-Stage.png
END:VEVENT
BEGIN:VEVENT
DTSTART;VALUE=DATE:20271229
DTEND;VALUE=DATE:20271230
DTSTAMP:20260422T192540
CREATED:20250126T051918Z
LAST-MODIFIED:20250126T051919Z
UID:10033266-1830038400-1830124799@nnburger.com
SUMMARY:Table Game Wednesdays
DESCRIPTION:We supply the table games…You bring your crew.
URL:https://nnburger.com/event/table-game-wednesdays/2027-12-29/
LOCATION:Tappahannock Events\, 303 Queen St.\, Tappahannock\, VA\, 22560\, United States
CATEGORIES:Themed Nights
ATTACH;FMTTYPE=image/jpeg:https://nnburger.com/wp-content/uploads/2025/01/Table-Game-Wednesdays-1920-X-1080.jpg
END:VEVENT
BEGIN:VEVENT
DTSTART;TZID=America/New_York:20280101T120000
DTEND;TZID=America/New_York:20280101T150000
DTSTAMP:20260422T192540
CREATED:20251105T220549Z
LAST-MODIFIED:20251105T220549Z
UID:10036478-1830340800-1830351600@nnburger.com
SUMMARY:🎶 Live Music on 'The NN Stage' 🎸
DESCRIPTION:🎶  Enjoy Live Music on ‘The NN Stage’ featuring Virginia’s top musicians. Join us! 🎸
URL:https://nnburger.com/event/%f0%9f%8e%b6-live-music-on-the-nn-stage-%f0%9f%8e%b8/2028-01-01/
LOCATION:Tappahannock Events\, 303 Queen St.\, Tappahannock\, VA\, 22560\, United States
CATEGORIES:Music Related
ATTACH;FMTTYPE=image/png:https://nnburger.com/wp-content/uploads/2025/11/Live-Bands-on-The-NN-Stage.png
END:VEVENT
BEGIN:VEVENT
DTSTART;VALUE=DATE:20280105
DTEND;VALUE=DATE:20280106
DTSTAMP:20260422T192540
CREATED:20250126T051918Z
LAST-MODIFIED:20250126T051919Z
UID:10033267-1830643200-1830729599@nnburger.com
SUMMARY:Table Game Wednesdays
DESCRIPTION:We supply the table games…You bring your crew.
URL:https://nnburger.com/event/table-game-wednesdays/2028-01-05/
LOCATION:Tappahannock Events\, 303 Queen St.\, Tappahannock\, VA\, 22560\, United States
CATEGORIES:Themed Nights
ATTACH;FMTTYPE=image/jpeg:https://nnburger.com/wp-content/uploads/2025/01/Table-Game-Wednesdays-1920-X-1080.jpg
END:VEVENT
BEGIN:VEVENT
DTSTART;TZID=America/New_York:20280108T120000
DTEND;TZID=America/New_York:20280108T150000
DTSTAMP:20260422T192540
CREATED:20251105T220549Z
LAST-MODIFIED:20251105T220549Z
UID:10036479-1830945600-1830956400@nnburger.com
SUMMARY:🎶 Live Music on 'The NN Stage' 🎸
DESCRIPTION:🎶  Enjoy Live Music on ‘The NN Stage’ featuring Virginia’s top musicians. Join us! 🎸
URL:https://nnburger.com/event/%f0%9f%8e%b6-live-music-on-the-nn-stage-%f0%9f%8e%b8/2028-01-08/
LOCATION:Tappahannock Events\, 303 Queen St.\, Tappahannock\, VA\, 22560\, United States
CATEGORIES:Music Related
ATTACH;FMTTYPE=image/png:https://nnburger.com/wp-content/uploads/2025/11/Live-Bands-on-The-NN-Stage.png
END:VEVENT
BEGIN:VEVENT
DTSTART;VALUE=DATE:20280112
DTEND;VALUE=DATE:20280113
DTSTAMP:20260422T192540
CREATED:20250126T051918Z
LAST-MODIFIED:20250126T051919Z
UID:10033268-1831248000-1831334399@nnburger.com
SUMMARY:Table Game Wednesdays
DESCRIPTION:We supply the table games…You bring your crew.
URL:https://nnburger.com/event/table-game-wednesdays/2028-01-12/
LOCATION:Tappahannock Events\, 303 Queen St.\, Tappahannock\, VA\, 22560\, United States
CATEGORIES:Themed Nights
ATTACH;FMTTYPE=image/jpeg:https://nnburger.com/wp-content/uploads/2025/01/Table-Game-Wednesdays-1920-X-1080.jpg
END:VEVENT
BEGIN:VEVENT
DTSTART;TZID=America/New_York:20280115T120000
DTEND;TZID=America/New_York:20280115T150000
DTSTAMP:20260422T192540
CREATED:20251105T220549Z
LAST-MODIFIED:20251105T220549Z
UID:10036480-1831550400-1831561200@nnburger.com
SUMMARY:🎶 Live Music on 'The NN Stage' 🎸
DESCRIPTION:🎶  Enjoy Live Music on ‘The NN Stage’ featuring Virginia’s top musicians. Join us! 🎸
URL:https://nnburger.com/event/%f0%9f%8e%b6-live-music-on-the-nn-stage-%f0%9f%8e%b8/2028-01-15/
LOCATION:Tappahannock Events\, 303 Queen St.\, Tappahannock\, VA\, 22560\, United States
CATEGORIES:Music Related
ATTACH;FMTTYPE=image/png:https://nnburger.com/wp-content/uploads/2025/11/Live-Bands-on-The-NN-Stage.png
END:VEVENT
BEGIN:VEVENT
DTSTART;VALUE=DATE:20280119
DTEND;VALUE=DATE:20280120
DTSTAMP:20260422T192540
CREATED:20250126T051918Z
LAST-MODIFIED:20250126T051919Z
UID:10033269-1831852800-1831939199@nnburger.com
SUMMARY:Table Game Wednesdays
DESCRIPTION:We supply the table games…You bring your crew.
URL:https://nnburger.com/event/table-game-wednesdays/2028-01-19/
LOCATION:Tappahannock Events\, 303 Queen St.\, Tappahannock\, VA\, 22560\, United States
CATEGORIES:Themed Nights
ATTACH;FMTTYPE=image/jpeg:https://nnburger.com/wp-content/uploads/2025/01/Table-Game-Wednesdays-1920-X-1080.jpg
END:VEVENT
BEGIN:VEVENT
DTSTART;TZID=America/New_York:20280122T120000
DTEND;TZID=America/New_York:20280122T150000
DTSTAMP:20260422T192540
CREATED:20251105T220549Z
LAST-MODIFIED:20251105T220549Z
UID:10036481-1832155200-1832166000@nnburger.com
SUMMARY:🎶 Live Music on 'The NN Stage' 🎸
DESCRIPTION:🎶  Enjoy Live Music on ‘The NN Stage’ featuring Virginia’s top musicians. Join us! 🎸
URL:https://nnburger.com/event/%f0%9f%8e%b6-live-music-on-the-nn-stage-%f0%9f%8e%b8/2028-01-22/
LOCATION:Tappahannock Events\, 303 Queen St.\, Tappahannock\, VA\, 22560\, United States
CATEGORIES:Music Related
ATTACH;FMTTYPE=image/png:https://nnburger.com/wp-content/uploads/2025/11/Live-Bands-on-The-NN-Stage.png
END:VEVENT
BEGIN:VEVENT
DTSTART;VALUE=DATE:20280126
DTEND;VALUE=DATE:20280127
DTSTAMP:20260422T192540
CREATED:20250126T051918Z
LAST-MODIFIED:20250126T051919Z
UID:10033270-1832457600-1832543999@nnburger.com
SUMMARY:Table Game Wednesdays
DESCRIPTION:We supply the table games…You bring your crew.
URL:https://nnburger.com/event/table-game-wednesdays/2028-01-26/
LOCATION:Tappahannock Events\, 303 Queen St.\, Tappahannock\, VA\, 22560\, United States
CATEGORIES:Themed Nights
ATTACH;FMTTYPE=image/jpeg:https://nnburger.com/wp-content/uploads/2025/01/Table-Game-Wednesdays-1920-X-1080.jpg
END:VEVENT
BEGIN:VEVENT
DTSTART;TZID=America/New_York:20280129T120000
DTEND;TZID=America/New_York:20280129T150000
DTSTAMP:20260422T192540
CREATED:20251105T220549Z
LAST-MODIFIED:20251105T220549Z
UID:10036482-1832760000-1832770800@nnburger.com
SUMMARY:🎶 Live Music on 'The NN Stage' 🎸
DESCRIPTION:🎶  Enjoy Live Music on ‘The NN Stage’ featuring Virginia’s top musicians. Join us! 🎸
URL:https://nnburger.com/event/%f0%9f%8e%b6-live-music-on-the-nn-stage-%f0%9f%8e%b8/2028-01-29/
LOCATION:Tappahannock Events\, 303 Queen St.\, Tappahannock\, VA\, 22560\, United States
CATEGORIES:Music Related
ATTACH;FMTTYPE=image/png:https://nnburger.com/wp-content/uploads/2025/11/Live-Bands-on-The-NN-Stage.png
END:VEVENT
BEGIN:VEVENT
DTSTART;VALUE=DATE:20280202
DTEND;VALUE=DATE:20280203
DTSTAMP:20260422T192540
CREATED:20250126T051918Z
LAST-MODIFIED:20250126T051919Z
UID:10033271-1833062400-1833148799@nnburger.com
SUMMARY:Table Game Wednesdays
DESCRIPTION:We supply the table games…You bring your crew.
URL:https://nnburger.com/event/table-game-wednesdays/2028-02-02/
LOCATION:Tappahannock Events\, 303 Queen St.\, Tappahannock\, VA\, 22560\, United States
CATEGORIES:Themed Nights
ATTACH;FMTTYPE=image/jpeg:https://nnburger.com/wp-content/uploads/2025/01/Table-Game-Wednesdays-1920-X-1080.jpg
END:VEVENT
BEGIN:VEVENT
DTSTART;TZID=America/New_York:20280205T120000
DTEND;TZID=America/New_York:20280205T150000
DTSTAMP:20260422T192540
CREATED:20251105T220549Z
LAST-MODIFIED:20251105T220549Z
UID:10036483-1833364800-1833375600@nnburger.com
SUMMARY:🎶 Live Music on 'The NN Stage' 🎸
DESCRIPTION:🎶  Enjoy Live Music on ‘The NN Stage’ featuring Virginia’s top musicians. Join us! 🎸
URL:https://nnburger.com/event/%f0%9f%8e%b6-live-music-on-the-nn-stage-%f0%9f%8e%b8/2028-02-05/
LOCATION:Tappahannock Events\, 303 Queen St.\, Tappahannock\, VA\, 22560\, United States
CATEGORIES:Music Related
ATTACH;FMTTYPE=image/png:https://nnburger.com/wp-content/uploads/2025/11/Live-Bands-on-The-NN-Stage.png
END:VEVENT
BEGIN:VEVENT
DTSTART;VALUE=DATE:20280209
DTEND;VALUE=DATE:20280210
DTSTAMP:20260422T192540
CREATED:20250126T051918Z
LAST-MODIFIED:20250126T051919Z
UID:10033272-1833667200-1833753599@nnburger.com
SUMMARY:Table Game Wednesdays
DESCRIPTION:We supply the table games…You bring your crew.
URL:https://nnburger.com/event/table-game-wednesdays/2028-02-09/
LOCATION:Tappahannock Events\, 303 Queen St.\, Tappahannock\, VA\, 22560\, United States
CATEGORIES:Themed Nights
ATTACH;FMTTYPE=image/jpeg:https://nnburger.com/wp-content/uploads/2025/01/Table-Game-Wednesdays-1920-X-1080.jpg
END:VEVENT
BEGIN:VEVENT
DTSTART;TZID=America/New_York:20280212T120000
DTEND;TZID=America/New_York:20280212T150000
DTSTAMP:20260422T192540
CREATED:20251105T220549Z
LAST-MODIFIED:20251105T220549Z
UID:10036484-1833969600-1833980400@nnburger.com
SUMMARY:🎶 Live Music on 'The NN Stage' 🎸
DESCRIPTION:🎶  Enjoy Live Music on ‘The NN Stage’ featuring Virginia’s top musicians. Join us! 🎸
URL:https://nnburger.com/event/%f0%9f%8e%b6-live-music-on-the-nn-stage-%f0%9f%8e%b8/2028-02-12/
LOCATION:Tappahannock Events\, 303 Queen St.\, Tappahannock\, VA\, 22560\, United States
CATEGORIES:Music Related
ATTACH;FMTTYPE=image/png:https://nnburger.com/wp-content/uploads/2025/11/Live-Bands-on-The-NN-Stage.png
END:VEVENT
BEGIN:VEVENT
DTSTART;VALUE=DATE:20280216
DTEND;VALUE=DATE:20280217
DTSTAMP:20260422T192540
CREATED:20250126T051918Z
LAST-MODIFIED:20250126T051919Z
UID:10033273-1834272000-1834358399@nnburger.com
SUMMARY:Table Game Wednesdays
DESCRIPTION:We supply the table games…You bring your crew.
URL:https://nnburger.com/event/table-game-wednesdays/2028-02-16/
LOCATION:Tappahannock Events\, 303 Queen St.\, Tappahannock\, VA\, 22560\, United States
CATEGORIES:Themed Nights
ATTACH;FMTTYPE=image/jpeg:https://nnburger.com/wp-content/uploads/2025/01/Table-Game-Wednesdays-1920-X-1080.jpg
END:VEVENT
BEGIN:VEVENT
DTSTART;TZID=America/New_York:20280219T120000
DTEND;TZID=America/New_York:20280219T150000
DTSTAMP:20260422T192540
CREATED:20251105T220549Z
LAST-MODIFIED:20251105T220549Z
UID:10036485-1834574400-1834585200@nnburger.com
SUMMARY:🎶 Live Music on 'The NN Stage' 🎸
DESCRIPTION:🎶  Enjoy Live Music on ‘The NN Stage’ featuring Virginia’s top musicians. Join us! 🎸
URL:https://nnburger.com/event/%f0%9f%8e%b6-live-music-on-the-nn-stage-%f0%9f%8e%b8/2028-02-19/
LOCATION:Tappahannock Events\, 303 Queen St.\, Tappahannock\, VA\, 22560\, United States
CATEGORIES:Music Related
ATTACH;FMTTYPE=image/png:https://nnburger.com/wp-content/uploads/2025/11/Live-Bands-on-The-NN-Stage.png
END:VEVENT
BEGIN:VEVENT
DTSTART;VALUE=DATE:20280223
DTEND;VALUE=DATE:20280224
DTSTAMP:20260422T192540
CREATED:20250126T051918Z
LAST-MODIFIED:20250126T051919Z
UID:10033274-1834876800-1834963199@nnburger.com
SUMMARY:Table Game Wednesdays
DESCRIPTION:We supply the table games…You bring your crew.
URL:https://nnburger.com/event/table-game-wednesdays/2028-02-23/
LOCATION:Tappahannock Events\, 303 Queen St.\, Tappahannock\, VA\, 22560\, United States
CATEGORIES:Themed Nights
ATTACH;FMTTYPE=image/jpeg:https://nnburger.com/wp-content/uploads/2025/01/Table-Game-Wednesdays-1920-X-1080.jpg
END:VEVENT
BEGIN:VEVENT
DTSTART;TZID=America/New_York:20280226T120000
DTEND;TZID=America/New_York:20280226T150000
DTSTAMP:20260422T192540
CREATED:20251105T220549Z
LAST-MODIFIED:20251105T220549Z
UID:10036486-1835179200-1835190000@nnburger.com
SUMMARY:🎶 Live Music on 'The NN Stage' 🎸
DESCRIPTION:🎶  Enjoy Live Music on ‘The NN Stage’ featuring Virginia’s top musicians. Join us! 🎸
URL:https://nnburger.com/event/%f0%9f%8e%b6-live-music-on-the-nn-stage-%f0%9f%8e%b8/2028-02-26/
LOCATION:Tappahannock Events\, 303 Queen St.\, Tappahannock\, VA\, 22560\, United States
CATEGORIES:Music Related
ATTACH;FMTTYPE=image/png:https://nnburger.com/wp-content/uploads/2025/11/Live-Bands-on-The-NN-Stage.png
END:VEVENT
END:VCALENDAR