BEGIN:VCALENDAR
VERSION:2.0
PRODID:-//NN BURGER® - ECPv6.15.20//NONSGML v1.0//EN
CALSCALE:GREGORIAN
METHOD:PUBLISH
X-WR-CALNAME:NN BURGER®
X-ORIGINAL-URL:https://nnburger.com
X-WR-CALDESC:Events for NN BURGER®
REFRESH-INTERVAL;VALUE=DURATION:PT1H
X-Robots-Tag:noindex
X-PUBLISHED-TTL:PT1H
BEGIN:VTIMEZONE
TZID:America/New_York
BEGIN:DAYLIGHT
TZOFFSETFROM:-0500
TZOFFSETTO:-0400
TZNAME:EDT
DTSTART:20270314T070000
END:DAYLIGHT
BEGIN:STANDARD
TZOFFSETFROM:-0400
TZOFFSETTO:-0500
TZNAME:EST
DTSTART:20271107T060000
END:STANDARD
BEGIN:DAYLIGHT
TZOFFSETFROM:-0500
TZOFFSETTO:-0400
TZNAME:EDT
DTSTART:20280312T070000
END:DAYLIGHT
BEGIN:STANDARD
TZOFFSETFROM:-0400
TZOFFSETTO:-0500
TZNAME:EST
DTSTART:20281105T060000
END:STANDARD
BEGIN:DAYLIGHT
TZOFFSETFROM:-0500
TZOFFSETTO:-0400
TZNAME:EDT
DTSTART:20290311T070000
END:DAYLIGHT
BEGIN:STANDARD
TZOFFSETFROM:-0400
TZOFFSETTO:-0500
TZNAME:EST
DTSTART:20291104T060000
END:STANDARD
END:VTIMEZONE
BEGIN:VEVENT
DTSTART;VALUE=DATE:20280712
DTEND;VALUE=DATE:20280713
DTSTAMP:20260424T011040
CREATED:20250126T051918Z
LAST-MODIFIED:20250126T051919Z
UID:10033294-1846972800-1847059199@nnburger.com
SUMMARY:Table Game Wednesdays
DESCRIPTION:We supply the table games…You bring your crew.
URL:https://nnburger.com/event/table-game-wednesdays/2028-07-12/
LOCATION:Tappahannock Events\, 303 Queen St.\, Tappahannock\, VA\, 22560\, United States
CATEGORIES:Themed Nights
ATTACH;FMTTYPE=image/jpeg:https://nnburger.com/wp-content/uploads/2025/01/Table-Game-Wednesdays-1920-X-1080.jpg
END:VEVENT
BEGIN:VEVENT
DTSTART;TZID=America/New_York:20280715T120000
DTEND;TZID=America/New_York:20280715T150000
DTSTAMP:20260424T011040
CREATED:20251105T220549Z
LAST-MODIFIED:20251105T220549Z
UID:10036506-1847275200-1847286000@nnburger.com
SUMMARY:🎶 Live Music on 'The NN Stage' 🎸
DESCRIPTION:🎶  Enjoy Live Music on ‘The NN Stage’ featuring Virginia’s top musicians. Join us! 🎸
URL:https://nnburger.com/event/%f0%9f%8e%b6-live-music-on-the-nn-stage-%f0%9f%8e%b8/2028-07-15/
LOCATION:Tappahannock Events\, 303 Queen St.\, Tappahannock\, VA\, 22560\, United States
CATEGORIES:Music Related
ATTACH;FMTTYPE=image/png:https://nnburger.com/wp-content/uploads/2025/11/Live-Bands-on-The-NN-Stage.png
END:VEVENT
BEGIN:VEVENT
DTSTART;VALUE=DATE:20280719
DTEND;VALUE=DATE:20280720
DTSTAMP:20260424T011040
CREATED:20250126T051918Z
LAST-MODIFIED:20250126T051919Z
UID:10033295-1847577600-1847663999@nnburger.com
SUMMARY:Table Game Wednesdays
DESCRIPTION:We supply the table games…You bring your crew.
URL:https://nnburger.com/event/table-game-wednesdays/2028-07-19/
LOCATION:Tappahannock Events\, 303 Queen St.\, Tappahannock\, VA\, 22560\, United States
CATEGORIES:Themed Nights
ATTACH;FMTTYPE=image/jpeg:https://nnburger.com/wp-content/uploads/2025/01/Table-Game-Wednesdays-1920-X-1080.jpg
END:VEVENT
BEGIN:VEVENT
DTSTART;TZID=America/New_York:20280722T120000
DTEND;TZID=America/New_York:20280722T150000
DTSTAMP:20260424T011040
CREATED:20251105T220549Z
LAST-MODIFIED:20251105T220549Z
UID:10036507-1847880000-1847890800@nnburger.com
SUMMARY:🎶 Live Music on 'The NN Stage' 🎸
DESCRIPTION:🎶  Enjoy Live Music on ‘The NN Stage’ featuring Virginia’s top musicians. Join us! 🎸
URL:https://nnburger.com/event/%f0%9f%8e%b6-live-music-on-the-nn-stage-%f0%9f%8e%b8/2028-07-22/
LOCATION:Tappahannock Events\, 303 Queen St.\, Tappahannock\, VA\, 22560\, United States
CATEGORIES:Music Related
ATTACH;FMTTYPE=image/png:https://nnburger.com/wp-content/uploads/2025/11/Live-Bands-on-The-NN-Stage.png
END:VEVENT
BEGIN:VEVENT
DTSTART;VALUE=DATE:20280726
DTEND;VALUE=DATE:20280727
DTSTAMP:20260424T011040
CREATED:20250126T051918Z
LAST-MODIFIED:20250126T051919Z
UID:10033296-1848182400-1848268799@nnburger.com
SUMMARY:Table Game Wednesdays
DESCRIPTION:We supply the table games…You bring your crew.
URL:https://nnburger.com/event/table-game-wednesdays/2028-07-26/
LOCATION:Tappahannock Events\, 303 Queen St.\, Tappahannock\, VA\, 22560\, United States
CATEGORIES:Themed Nights
ATTACH;FMTTYPE=image/jpeg:https://nnburger.com/wp-content/uploads/2025/01/Table-Game-Wednesdays-1920-X-1080.jpg
END:VEVENT
BEGIN:VEVENT
DTSTART;TZID=America/New_York:20280729T120000
DTEND;TZID=America/New_York:20280729T150000
DTSTAMP:20260424T011040
CREATED:20251105T220549Z
LAST-MODIFIED:20251105T220549Z
UID:10036508-1848484800-1848495600@nnburger.com
SUMMARY:🎶 Live Music on 'The NN Stage' 🎸
DESCRIPTION:🎶  Enjoy Live Music on ‘The NN Stage’ featuring Virginia’s top musicians. Join us! 🎸
URL:https://nnburger.com/event/%f0%9f%8e%b6-live-music-on-the-nn-stage-%f0%9f%8e%b8/2028-07-29/
LOCATION:Tappahannock Events\, 303 Queen St.\, Tappahannock\, VA\, 22560\, United States
CATEGORIES:Music Related
ATTACH;FMTTYPE=image/png:https://nnburger.com/wp-content/uploads/2025/11/Live-Bands-on-The-NN-Stage.png
END:VEVENT
BEGIN:VEVENT
DTSTART;VALUE=DATE:20280802
DTEND;VALUE=DATE:20280803
DTSTAMP:20260424T011040
CREATED:20250126T051918Z
LAST-MODIFIED:20250126T051919Z
UID:10033297-1848787200-1848873599@nnburger.com
SUMMARY:Table Game Wednesdays
DESCRIPTION:We supply the table games…You bring your crew.
URL:https://nnburger.com/event/table-game-wednesdays/2028-08-02/
LOCATION:Tappahannock Events\, 303 Queen St.\, Tappahannock\, VA\, 22560\, United States
CATEGORIES:Themed Nights
ATTACH;FMTTYPE=image/jpeg:https://nnburger.com/wp-content/uploads/2025/01/Table-Game-Wednesdays-1920-X-1080.jpg
END:VEVENT
BEGIN:VEVENT
DTSTART;TZID=America/New_York:20280805T120000
DTEND;TZID=America/New_York:20280805T150000
DTSTAMP:20260424T011040
CREATED:20251105T220549Z
LAST-MODIFIED:20251105T220549Z
UID:10036509-1849089600-1849100400@nnburger.com
SUMMARY:🎶 Live Music on 'The NN Stage' 🎸
DESCRIPTION:🎶  Enjoy Live Music on ‘The NN Stage’ featuring Virginia’s top musicians. Join us! 🎸
URL:https://nnburger.com/event/%f0%9f%8e%b6-live-music-on-the-nn-stage-%f0%9f%8e%b8/2028-08-05/
LOCATION:Tappahannock Events\, 303 Queen St.\, Tappahannock\, VA\, 22560\, United States
CATEGORIES:Music Related
ATTACH;FMTTYPE=image/png:https://nnburger.com/wp-content/uploads/2025/11/Live-Bands-on-The-NN-Stage.png
END:VEVENT
BEGIN:VEVENT
DTSTART;VALUE=DATE:20280809
DTEND;VALUE=DATE:20280810
DTSTAMP:20260424T011040
CREATED:20250126T051918Z
LAST-MODIFIED:20250126T051919Z
UID:10033298-1849392000-1849478399@nnburger.com
SUMMARY:Table Game Wednesdays
DESCRIPTION:We supply the table games…You bring your crew.
URL:https://nnburger.com/event/table-game-wednesdays/2028-08-09/
LOCATION:Tappahannock Events\, 303 Queen St.\, Tappahannock\, VA\, 22560\, United States
CATEGORIES:Themed Nights
ATTACH;FMTTYPE=image/jpeg:https://nnburger.com/wp-content/uploads/2025/01/Table-Game-Wednesdays-1920-X-1080.jpg
END:VEVENT
BEGIN:VEVENT
DTSTART;TZID=America/New_York:20280812T120000
DTEND;TZID=America/New_York:20280812T150000
DTSTAMP:20260424T011040
CREATED:20251105T220549Z
LAST-MODIFIED:20251105T220549Z
UID:10036510-1849694400-1849705200@nnburger.com
SUMMARY:🎶 Live Music on 'The NN Stage' 🎸
DESCRIPTION:🎶  Enjoy Live Music on ‘The NN Stage’ featuring Virginia’s top musicians. Join us! 🎸
URL:https://nnburger.com/event/%f0%9f%8e%b6-live-music-on-the-nn-stage-%f0%9f%8e%b8/2028-08-12/
LOCATION:Tappahannock Events\, 303 Queen St.\, Tappahannock\, VA\, 22560\, United States
CATEGORIES:Music Related
ATTACH;FMTTYPE=image/png:https://nnburger.com/wp-content/uploads/2025/11/Live-Bands-on-The-NN-Stage.png
END:VEVENT
BEGIN:VEVENT
DTSTART;VALUE=DATE:20280816
DTEND;VALUE=DATE:20280817
DTSTAMP:20260424T011040
CREATED:20250126T051918Z
LAST-MODIFIED:20250126T051919Z
UID:10033299-1849996800-1850083199@nnburger.com
SUMMARY:Table Game Wednesdays
DESCRIPTION:We supply the table games…You bring your crew.
URL:https://nnburger.com/event/table-game-wednesdays/2028-08-16/
LOCATION:Tappahannock Events\, 303 Queen St.\, Tappahannock\, VA\, 22560\, United States
CATEGORIES:Themed Nights
ATTACH;FMTTYPE=image/jpeg:https://nnburger.com/wp-content/uploads/2025/01/Table-Game-Wednesdays-1920-X-1080.jpg
END:VEVENT
BEGIN:VEVENT
DTSTART;TZID=America/New_York:20280819T120000
DTEND;TZID=America/New_York:20280819T150000
DTSTAMP:20260424T011040
CREATED:20251105T220549Z
LAST-MODIFIED:20251105T220549Z
UID:10036511-1850299200-1850310000@nnburger.com
SUMMARY:🎶 Live Music on 'The NN Stage' 🎸
DESCRIPTION:🎶  Enjoy Live Music on ‘The NN Stage’ featuring Virginia’s top musicians. Join us! 🎸
URL:https://nnburger.com/event/%f0%9f%8e%b6-live-music-on-the-nn-stage-%f0%9f%8e%b8/2028-08-19/
LOCATION:Tappahannock Events\, 303 Queen St.\, Tappahannock\, VA\, 22560\, United States
CATEGORIES:Music Related
ATTACH;FMTTYPE=image/png:https://nnburger.com/wp-content/uploads/2025/11/Live-Bands-on-The-NN-Stage.png
END:VEVENT
BEGIN:VEVENT
DTSTART;VALUE=DATE:20280823
DTEND;VALUE=DATE:20280824
DTSTAMP:20260424T011040
CREATED:20250126T051918Z
LAST-MODIFIED:20250126T051919Z
UID:10033300-1850601600-1850687999@nnburger.com
SUMMARY:Table Game Wednesdays
DESCRIPTION:We supply the table games…You bring your crew.
URL:https://nnburger.com/event/table-game-wednesdays/2028-08-23/
LOCATION:Tappahannock Events\, 303 Queen St.\, Tappahannock\, VA\, 22560\, United States
CATEGORIES:Themed Nights
ATTACH;FMTTYPE=image/jpeg:https://nnburger.com/wp-content/uploads/2025/01/Table-Game-Wednesdays-1920-X-1080.jpg
END:VEVENT
BEGIN:VEVENT
DTSTART;TZID=America/New_York:20280826T120000
DTEND;TZID=America/New_York:20280826T150000
DTSTAMP:20260424T011040
CREATED:20251105T220549Z
LAST-MODIFIED:20251105T220549Z
UID:10036512-1850904000-1850914800@nnburger.com
SUMMARY:🎶 Live Music on 'The NN Stage' 🎸
DESCRIPTION:🎶  Enjoy Live Music on ‘The NN Stage’ featuring Virginia’s top musicians. Join us! 🎸
URL:https://nnburger.com/event/%f0%9f%8e%b6-live-music-on-the-nn-stage-%f0%9f%8e%b8/2028-08-26/
LOCATION:Tappahannock Events\, 303 Queen St.\, Tappahannock\, VA\, 22560\, United States
CATEGORIES:Music Related
ATTACH;FMTTYPE=image/png:https://nnburger.com/wp-content/uploads/2025/11/Live-Bands-on-The-NN-Stage.png
END:VEVENT
BEGIN:VEVENT
DTSTART;VALUE=DATE:20280830
DTEND;VALUE=DATE:20280831
DTSTAMP:20260424T011040
CREATED:20250126T051918Z
LAST-MODIFIED:20250126T051919Z
UID:10033301-1851206400-1851292799@nnburger.com
SUMMARY:Table Game Wednesdays
DESCRIPTION:We supply the table games…You bring your crew.
URL:https://nnburger.com/event/table-game-wednesdays/2028-08-30/
LOCATION:Tappahannock Events\, 303 Queen St.\, Tappahannock\, VA\, 22560\, United States
CATEGORIES:Themed Nights
ATTACH;FMTTYPE=image/jpeg:https://nnburger.com/wp-content/uploads/2025/01/Table-Game-Wednesdays-1920-X-1080.jpg
END:VEVENT
BEGIN:VEVENT
DTSTART;TZID=America/New_York:20280902T120000
DTEND;TZID=America/New_York:20280902T150000
DTSTAMP:20260424T011040
CREATED:20251105T220549Z
LAST-MODIFIED:20251105T220549Z
UID:10036513-1851508800-1851519600@nnburger.com
SUMMARY:🎶 Live Music on 'The NN Stage' 🎸
DESCRIPTION:🎶  Enjoy Live Music on ‘The NN Stage’ featuring Virginia’s top musicians. Join us! 🎸
URL:https://nnburger.com/event/%f0%9f%8e%b6-live-music-on-the-nn-stage-%f0%9f%8e%b8/2028-09-02/
LOCATION:Tappahannock Events\, 303 Queen St.\, Tappahannock\, VA\, 22560\, United States
CATEGORIES:Music Related
ATTACH;FMTTYPE=image/png:https://nnburger.com/wp-content/uploads/2025/11/Live-Bands-on-The-NN-Stage.png
END:VEVENT
BEGIN:VEVENT
DTSTART;VALUE=DATE:20280906
DTEND;VALUE=DATE:20280907
DTSTAMP:20260424T011040
CREATED:20250126T051918Z
LAST-MODIFIED:20250126T051919Z
UID:10033302-1851811200-1851897599@nnburger.com
SUMMARY:Table Game Wednesdays
DESCRIPTION:We supply the table games…You bring your crew.
URL:https://nnburger.com/event/table-game-wednesdays/2028-09-06/
LOCATION:Tappahannock Events\, 303 Queen St.\, Tappahannock\, VA\, 22560\, United States
CATEGORIES:Themed Nights
ATTACH;FMTTYPE=image/jpeg:https://nnburger.com/wp-content/uploads/2025/01/Table-Game-Wednesdays-1920-X-1080.jpg
END:VEVENT
BEGIN:VEVENT
DTSTART;TZID=America/New_York:20280909T120000
DTEND;TZID=America/New_York:20280909T150000
DTSTAMP:20260424T011040
CREATED:20251105T220549Z
LAST-MODIFIED:20251105T220549Z
UID:10036514-1852113600-1852124400@nnburger.com
SUMMARY:🎶 Live Music on 'The NN Stage' 🎸
DESCRIPTION:🎶  Enjoy Live Music on ‘The NN Stage’ featuring Virginia’s top musicians. Join us! 🎸
URL:https://nnburger.com/event/%f0%9f%8e%b6-live-music-on-the-nn-stage-%f0%9f%8e%b8/2028-09-09/
LOCATION:Tappahannock Events\, 303 Queen St.\, Tappahannock\, VA\, 22560\, United States
CATEGORIES:Music Related
ATTACH;FMTTYPE=image/png:https://nnburger.com/wp-content/uploads/2025/11/Live-Bands-on-The-NN-Stage.png
END:VEVENT
BEGIN:VEVENT
DTSTART;VALUE=DATE:20280913
DTEND;VALUE=DATE:20280914
DTSTAMP:20260424T011040
CREATED:20250126T051918Z
LAST-MODIFIED:20250126T051919Z
UID:10033303-1852416000-1852502399@nnburger.com
SUMMARY:Table Game Wednesdays
DESCRIPTION:We supply the table games…You bring your crew.
URL:https://nnburger.com/event/table-game-wednesdays/2028-09-13/
LOCATION:Tappahannock Events\, 303 Queen St.\, Tappahannock\, VA\, 22560\, United States
CATEGORIES:Themed Nights
ATTACH;FMTTYPE=image/jpeg:https://nnburger.com/wp-content/uploads/2025/01/Table-Game-Wednesdays-1920-X-1080.jpg
END:VEVENT
BEGIN:VEVENT
DTSTART;TZID=America/New_York:20280916T120000
DTEND;TZID=America/New_York:20280916T150000
DTSTAMP:20260424T011040
CREATED:20251105T220549Z
LAST-MODIFIED:20251105T220549Z
UID:10036515-1852718400-1852729200@nnburger.com
SUMMARY:🎶 Live Music on 'The NN Stage' 🎸
DESCRIPTION:🎶  Enjoy Live Music on ‘The NN Stage’ featuring Virginia’s top musicians. Join us! 🎸
URL:https://nnburger.com/event/%f0%9f%8e%b6-live-music-on-the-nn-stage-%f0%9f%8e%b8/2028-09-16/
LOCATION:Tappahannock Events\, 303 Queen St.\, Tappahannock\, VA\, 22560\, United States
CATEGORIES:Music Related
ATTACH;FMTTYPE=image/png:https://nnburger.com/wp-content/uploads/2025/11/Live-Bands-on-The-NN-Stage.png
END:VEVENT
BEGIN:VEVENT
DTSTART;VALUE=DATE:20280920
DTEND;VALUE=DATE:20280921
DTSTAMP:20260424T011040
CREATED:20250126T051918Z
LAST-MODIFIED:20250126T051919Z
UID:10033304-1853020800-1853107199@nnburger.com
SUMMARY:Table Game Wednesdays
DESCRIPTION:We supply the table games…You bring your crew.
URL:https://nnburger.com/event/table-game-wednesdays/2028-09-20/
LOCATION:Tappahannock Events\, 303 Queen St.\, Tappahannock\, VA\, 22560\, United States
CATEGORIES:Themed Nights
ATTACH;FMTTYPE=image/jpeg:https://nnburger.com/wp-content/uploads/2025/01/Table-Game-Wednesdays-1920-X-1080.jpg
END:VEVENT
BEGIN:VEVENT
DTSTART;TZID=America/New_York:20280923T120000
DTEND;TZID=America/New_York:20280923T150000
DTSTAMP:20260424T011040
CREATED:20251105T220549Z
LAST-MODIFIED:20251105T220549Z
UID:10036516-1853323200-1853334000@nnburger.com
SUMMARY:🎶 Live Music on 'The NN Stage' 🎸
DESCRIPTION:🎶  Enjoy Live Music on ‘The NN Stage’ featuring Virginia’s top musicians. Join us! 🎸
URL:https://nnburger.com/event/%f0%9f%8e%b6-live-music-on-the-nn-stage-%f0%9f%8e%b8/2028-09-23/
LOCATION:Tappahannock Events\, 303 Queen St.\, Tappahannock\, VA\, 22560\, United States
CATEGORIES:Music Related
ATTACH;FMTTYPE=image/png:https://nnburger.com/wp-content/uploads/2025/11/Live-Bands-on-The-NN-Stage.png
END:VEVENT
BEGIN:VEVENT
DTSTART;VALUE=DATE:20280927
DTEND;VALUE=DATE:20280928
DTSTAMP:20260424T011040
CREATED:20250126T051918Z
LAST-MODIFIED:20250126T051919Z
UID:10033305-1853625600-1853711999@nnburger.com
SUMMARY:Table Game Wednesdays
DESCRIPTION:We supply the table games…You bring your crew.
URL:https://nnburger.com/event/table-game-wednesdays/2028-09-27/
LOCATION:Tappahannock Events\, 303 Queen St.\, Tappahannock\, VA\, 22560\, United States
CATEGORIES:Themed Nights
ATTACH;FMTTYPE=image/jpeg:https://nnburger.com/wp-content/uploads/2025/01/Table-Game-Wednesdays-1920-X-1080.jpg
END:VEVENT
BEGIN:VEVENT
DTSTART;TZID=America/New_York:20280930T120000
DTEND;TZID=America/New_York:20280930T150000
DTSTAMP:20260424T011040
CREATED:20251105T220549Z
LAST-MODIFIED:20251105T220549Z
UID:10036517-1853928000-1853938800@nnburger.com
SUMMARY:🎶 Live Music on 'The NN Stage' 🎸
DESCRIPTION:🎶  Enjoy Live Music on ‘The NN Stage’ featuring Virginia’s top musicians. Join us! 🎸
URL:https://nnburger.com/event/%f0%9f%8e%b6-live-music-on-the-nn-stage-%f0%9f%8e%b8/2028-09-30/
LOCATION:Tappahannock Events\, 303 Queen St.\, Tappahannock\, VA\, 22560\, United States
CATEGORIES:Music Related
ATTACH;FMTTYPE=image/png:https://nnburger.com/wp-content/uploads/2025/11/Live-Bands-on-The-NN-Stage.png
END:VEVENT
BEGIN:VEVENT
DTSTART;VALUE=DATE:20281004
DTEND;VALUE=DATE:20281005
DTSTAMP:20260424T011040
CREATED:20250126T051918Z
LAST-MODIFIED:20250126T051919Z
UID:10033306-1854230400-1854316799@nnburger.com
SUMMARY:Table Game Wednesdays
DESCRIPTION:We supply the table games…You bring your crew.
URL:https://nnburger.com/event/table-game-wednesdays/2028-10-04/
LOCATION:Tappahannock Events\, 303 Queen St.\, Tappahannock\, VA\, 22560\, United States
CATEGORIES:Themed Nights
ATTACH;FMTTYPE=image/jpeg:https://nnburger.com/wp-content/uploads/2025/01/Table-Game-Wednesdays-1920-X-1080.jpg
END:VEVENT
BEGIN:VEVENT
DTSTART;TZID=America/New_York:20281007T120000
DTEND;TZID=America/New_York:20281007T150000
DTSTAMP:20260424T011040
CREATED:20251105T220549Z
LAST-MODIFIED:20251105T220549Z
UID:10036518-1854532800-1854543600@nnburger.com
SUMMARY:🎶 Live Music on 'The NN Stage' 🎸
DESCRIPTION:🎶  Enjoy Live Music on ‘The NN Stage’ featuring Virginia’s top musicians. Join us! 🎸
URL:https://nnburger.com/event/%f0%9f%8e%b6-live-music-on-the-nn-stage-%f0%9f%8e%b8/2028-10-07/
LOCATION:Tappahannock Events\, 303 Queen St.\, Tappahannock\, VA\, 22560\, United States
CATEGORIES:Music Related
ATTACH;FMTTYPE=image/png:https://nnburger.com/wp-content/uploads/2025/11/Live-Bands-on-The-NN-Stage.png
END:VEVENT
BEGIN:VEVENT
DTSTART;VALUE=DATE:20281011
DTEND;VALUE=DATE:20281012
DTSTAMP:20260424T011040
CREATED:20250126T051918Z
LAST-MODIFIED:20250126T051919Z
UID:10033307-1854835200-1854921599@nnburger.com
SUMMARY:Table Game Wednesdays
DESCRIPTION:We supply the table games…You bring your crew.
URL:https://nnburger.com/event/table-game-wednesdays/2028-10-11/
LOCATION:Tappahannock Events\, 303 Queen St.\, Tappahannock\, VA\, 22560\, United States
CATEGORIES:Themed Nights
ATTACH;FMTTYPE=image/jpeg:https://nnburger.com/wp-content/uploads/2025/01/Table-Game-Wednesdays-1920-X-1080.jpg
END:VEVENT
BEGIN:VEVENT
DTSTART;TZID=America/New_York:20281014T120000
DTEND;TZID=America/New_York:20281014T150000
DTSTAMP:20260424T011040
CREATED:20251105T220549Z
LAST-MODIFIED:20251105T220549Z
UID:10036519-1855137600-1855148400@nnburger.com
SUMMARY:🎶 Live Music on 'The NN Stage' 🎸
DESCRIPTION:🎶  Enjoy Live Music on ‘The NN Stage’ featuring Virginia’s top musicians. Join us! 🎸
URL:https://nnburger.com/event/%f0%9f%8e%b6-live-music-on-the-nn-stage-%f0%9f%8e%b8/2028-10-14/
LOCATION:Tappahannock Events\, 303 Queen St.\, Tappahannock\, VA\, 22560\, United States
CATEGORIES:Music Related
ATTACH;FMTTYPE=image/png:https://nnburger.com/wp-content/uploads/2025/11/Live-Bands-on-The-NN-Stage.png
END:VEVENT
BEGIN:VEVENT
DTSTART;VALUE=DATE:20281018
DTEND;VALUE=DATE:20281019
DTSTAMP:20260424T011040
CREATED:20250126T051918Z
LAST-MODIFIED:20250126T051919Z
UID:10033308-1855440000-1855526399@nnburger.com
SUMMARY:Table Game Wednesdays
DESCRIPTION:We supply the table games…You bring your crew.
URL:https://nnburger.com/event/table-game-wednesdays/2028-10-18/
LOCATION:Tappahannock Events\, 303 Queen St.\, Tappahannock\, VA\, 22560\, United States
CATEGORIES:Themed Nights
ATTACH;FMTTYPE=image/jpeg:https://nnburger.com/wp-content/uploads/2025/01/Table-Game-Wednesdays-1920-X-1080.jpg
END:VEVENT
BEGIN:VEVENT
DTSTART;TZID=America/New_York:20281021T120000
DTEND;TZID=America/New_York:20281021T150000
DTSTAMP:20260424T011040
CREATED:20251105T220549Z
LAST-MODIFIED:20251105T220549Z
UID:10036520-1855742400-1855753200@nnburger.com
SUMMARY:🎶 Live Music on 'The NN Stage' 🎸
DESCRIPTION:🎶  Enjoy Live Music on ‘The NN Stage’ featuring Virginia’s top musicians. Join us! 🎸
URL:https://nnburger.com/event/%f0%9f%8e%b6-live-music-on-the-nn-stage-%f0%9f%8e%b8/2028-10-21/
LOCATION:Tappahannock Events\, 303 Queen St.\, Tappahannock\, VA\, 22560\, United States
CATEGORIES:Music Related
ATTACH;FMTTYPE=image/png:https://nnburger.com/wp-content/uploads/2025/11/Live-Bands-on-The-NN-Stage.png
END:VEVENT
END:VCALENDAR